BEGIN:VCALENDAR
VERSION:2.0
PRODID:-//Shri Dakshin Delhi Gujarati Mandal - ECPv6.15.18//NONSGML v1.0//EN
CALSCALE:GREGORIAN
METHOD:PUBLISH
X-ORIGINAL-URL:https://sddgm.org
X-WR-CALDESC:Events for Shri Dakshin Delhi Gujarati Mandal
REFRESH-INTERVAL;VALUE=DURATION:PT1H
X-Robots-Tag:noindex
X-PUBLISHED-TTL:PT1H
BEGIN:VTIMEZONE
TZID:Asia/Kolkata
BEGIN:STANDARD
TZOFFSETFROM:+0530
TZOFFSETTO:+0530
TZNAME:IST
DTSTART:20150101T000000
END:STANDARD
END:VTIMEZONE
BEGIN:VEVENT
DTSTART;TZID=Asia/Kolkata:20200203T170000
DTEND;TZID=Asia/Kolkata:20200203T180000
DTSTAMP:20260419T183522
CREATED:20210915T095630Z
LAST-MODIFIED:20210916T181113Z
UID:10000214-1580749200-1580752800@sddgm.org
SUMMARY:Gujarati Munch
DESCRIPTION:You are cordially invited with your family and friends on 3rd February 2020 at Shah Auditorium\, Civil Lines\, from 5 PM to welcome and listen to views of our Honorable Chief Minister of Gujarat Sh. Vijaybhai Rupani followed by dinner\, sponsored by Sh. BhaiLalbhai Patel.
URL:https://sddgm.org/event/gujarati-munch/
LOCATION:Shah Auditorium\, 2\,Rajniwas Marg\, Near Civil Lines Metro Station and Rajniwas\, New Delhi\, Delhi\, 110054
CATEGORIES:Other
ATTACH;FMTTYPE=image/jpeg:https://sddgm.org/wp-content/uploads/2021/09/gujarati-munch.jpg
ORGANIZER;CN="Shri Dakshin Delhi Gujarati Mandal":MAILTO:info@sddgm.org
END:VEVENT
BEGIN:VEVENT
DTSTART;TZID=Asia/Kolkata:20191013T190000
DTEND;TZID=Asia/Kolkata:20191013T210000
DTSTAMP:20260419T183522
CREATED:20210915T124226Z
LAST-MODIFIED:20210916T181113Z
UID:10000218-1570993200-1571000400@sddgm.org
SUMMARY:Food Fest – Sharad Utsav – 2019
DESCRIPTION:
URL:https://sddgm.org/event/food-fest-sharad-utsav-2019/
LOCATION:Sardar Patel Vidyalaya\, Lodhi Estate\, New Delhi\, Delhi\, 110003\, India
CATEGORIES:Food Festival
ATTACH;FMTTYPE=image/png:https://sddgm.org/wp-content/uploads/2021/09/food-fest-2019.png
ORGANIZER;CN="Shri Dakshin Delhi Gujarati Mandal":MAILTO:info@sddgm.org
END:VEVENT
BEGIN:VEVENT
DTSTART;TZID=Asia/Kolkata:20181028T190000
DTEND;TZID=Asia/Kolkata:20181028T210000
DTSTAMP:20260419T183522
CREATED:20210912T175333Z
LAST-MODIFIED:20210916T181113Z
UID:10000198-1540753200-1540760400@sddgm.org
SUMMARY:Food Fest - Sharad Utsav - 2018
DESCRIPTION:
URL:https://sddgm.org/event/food-fest-sharad-utsav-2018/
LOCATION:Shah Auditorium\, 2\,Rajniwas Marg\, Near Civil Lines Metro Station and Rajniwas\, New Delhi\, Delhi\, 110054
CATEGORIES:Other
ATTACH;FMTTYPE=image/jpeg:https://sddgm.org/wp-content/uploads/2021/09/food-fest-2018.jpg
ORGANIZER;CN="Shri Dakshin Delhi Gujarati Mandal":MAILTO:info@sddgm.org
END:VEVENT
BEGIN:VEVENT
DTSTART;TZID=Asia/Kolkata:20171008T180000
DTEND;TZID=Asia/Kolkata:20171008T210000
DTSTAMP:20260419T183522
CREATED:20210913T170337Z
LAST-MODIFIED:20210916T181113Z
UID:10000203-1507485600-1507496400@sddgm.org
SUMMARY:Sharad Utsav – Food Fest – 2017
DESCRIPTION:We are back once again with our award winning ‘Masala Bun’ and something new!
URL:https://sddgm.org/event/sharad-utsav-food-fest-2017/
LOCATION:Shah Auditorium\, 2\,Rajniwas Marg\, Near Civil Lines Metro Station and Rajniwas\, New Delhi\, Delhi\, 110054
CATEGORIES:Food Festival
ATTACH;FMTTYPE=image/jpeg:https://sddgm.org/wp-content/uploads/2021/09/food-fest-2017.jpg
ORGANIZER;CN="Shri Dakshin Delhi Gujarati Mandal":MAILTO:info@sddgm.org
END:VEVENT
BEGIN:VEVENT
DTSTART;TZID=Asia/Kolkata:20170501T190000
DTEND;TZID=Asia/Kolkata:20170501T210000
DTSTAMP:20260419T183522
CREATED:20210913T171519Z
LAST-MODIFIED:20210916T181113Z
UID:10000206-1493665200-1493672400@sddgm.org
SUMMARY:Gujarat Sthapana Diwas Celebrations
DESCRIPTION:Celebrating Gujarat Sthapana Diwas at Shah Auditorium. Dance performance by renowned artist Asha Parikh and team.\nJai jai Garvi Gujarat!
URL:https://sddgm.org/event/gujarat-sthapana-diwas-celebrations/
LOCATION:Shah Auditorium\, 2\,Rajniwas Marg\, Near Civil Lines Metro Station and Rajniwas\, New Delhi\, Delhi\, 110054
CATEGORIES:Other
ATTACH;FMTTYPE=image/jpeg:https://sddgm.org/wp-content/uploads/2021/09/gujarat-sthapana-2017.jpg
ORGANIZER;CN="Shri Dakshin Delhi Gujarati Mandal":MAILTO:info@sddgm.org
END:VEVENT
BEGIN:VEVENT
DTSTART;TZID=Asia/Kolkata:20161016T180000
DTEND;TZID=Asia/Kolkata:20161016T210000
DTSTAMP:20260419T183522
CREATED:20210915T083744Z
LAST-MODIFIED:20210916T181145Z
UID:10000208-1476640800-1476651600@sddgm.org
SUMMARY:Sharad Utsav – Food Fest – 2016
DESCRIPTION:
URL:https://sddgm.org/event/sharad-utsav-food-fest-2016/
LOCATION:Shah Auditorium\, 2\,Rajniwas Marg\, Near Civil Lines Metro Station and Rajniwas\, New Delhi\, Delhi\, 110054
CATEGORIES:Food Festival
ATTACH;FMTTYPE=image/png:https://sddgm.org/wp-content/uploads/2021/09/food-fest-2016.png
ORGANIZER;CN="Shri Dakshin Delhi Gujarati Mandal":MAILTO:info@sddgm.org
END:VEVENT
END:VCALENDAR