BEGIN:VCALENDAR
VERSION:2.0
PRODID:-//Shri Dakshin Delhi Gujarati Mandal - ECPv6.15.18//NONSGML v1.0//EN
CALSCALE:GREGORIAN
METHOD:PUBLISH
X-WR-CALNAME:Shri Dakshin Delhi Gujarati Mandal
X-ORIGINAL-URL:https://sddgm.org
X-WR-CALDESC:Events for Shri Dakshin Delhi Gujarati Mandal
REFRESH-INTERVAL;VALUE=DURATION:PT1H
X-Robots-Tag:noindex
X-PUBLISHED-TTL:PT1H
BEGIN:VTIMEZONE
TZID:Asia/Kolkata
BEGIN:STANDARD
TZOFFSETFROM:+0530
TZOFFSETTO:+0530
TZNAME:IST
DTSTART:20140101T000000
END:STANDARD
END:VTIMEZONE
BEGIN:VEVENT
DTSTART;TZID=Asia/Kolkata:20191004T190000
DTEND;TZID=Asia/Kolkata:20191004T220000
DTSTAMP:20260420T221529
CREATED:20211218T100355Z
LAST-MODIFIED:20211218T100355Z
UID:10000239-1570215600-1570226400@sddgm.org
SUMMARY:Garba & Dandiya – Chhath – 2019
DESCRIPTION:
URL:https://sddgm.org/event/garba-dandiya-chhath-2019/
LOCATION:IIT Delhi\, IIT Delhi\, Nalanda Ground\, New Delhi\, Delhi\, India
CATEGORIES:Dandiya Nights
ATTACH;FMTTYPE=image/png:https://sddgm.org/wp-content/uploads/2021/12/chhath-2019.png
ORGANIZER;CN="Shri Dakshin Delhi Gujarati Mandal":MAILTO:info@sddgm.org
END:VEVENT
BEGIN:VEVENT
DTSTART;TZID=Asia/Kolkata:20181021T190000
DTEND;TZID=Asia/Kolkata:20181021T220000
DTSTAMP:20260420T221529
CREATED:20211218T095155Z
LAST-MODIFIED:20211218T095155Z
UID:10000238-1540148400-1540159200@sddgm.org
SUMMARY:Garba & Dandiya – Sharad Purnima – 2018
DESCRIPTION:
URL:https://sddgm.org/event/garba-dandiya-sharad-purnima-2018/
LOCATION:IIT Delhi\, IIT Delhi\, Nalanda Ground\, New Delhi\, Delhi\, India
CATEGORIES:Dandiya Nights
ATTACH;FMTTYPE=image/png:https://sddgm.org/wp-content/uploads/2021/12/sharad-purnima-2018.png
ORGANIZER;CN="Shri Dakshin Delhi Gujarati Mandal":MAILTO:info@sddgm.org
END:VEVENT
BEGIN:VEVENT
DTSTART;TZID=Asia/Kolkata:20171014T180000
DTEND;TZID=Asia/Kolkata:20171014T220000
DTSTAMP:20260420T221529
CREATED:20210912T182739Z
LAST-MODIFIED:20210916T181113Z
UID:10000202-1508004000-1508018400@sddgm.org
SUMMARY:Dandiya Nights - 2017
DESCRIPTION:All guests are requested to enter Nalanda Ground using JNU Gate with a ready Photo ID Card in hand. Your cooperation is solicited.
URL:https://sddgm.org/event/dandiya-nights-2017/
LOCATION:IIT Delhi\, IIT Delhi\, Nalanda Ground\, New Delhi\, Delhi\, India
CATEGORIES:Dandiya Nights
ATTACH;FMTTYPE=image/jpeg:https://sddgm.org/wp-content/uploads/2021/09/dandiya-nights-2017.jpg
ORGANIZER;CN="Shri Dakshin Delhi Gujarati Mandal":MAILTO:info@sddgm.org
END:VEVENT
BEGIN:VEVENT
DTSTART;TZID=Asia/Kolkata:20161014T190000
DTEND;TZID=Asia/Kolkata:20161014T220000
DTSTAMP:20260420T221529
CREATED:20210915T084021Z
LAST-MODIFIED:20210916T181145Z
UID:10000209-1476471600-1476482400@sddgm.org
SUMMARY:Garba & Dandiya – Sharad Purnima – 2016
DESCRIPTION:
URL:https://sddgm.org/event/garba-dandiya-sharad-purnima-2016/
LOCATION:IIT Delhi\, IIT Delhi\, Nalanda Ground\, New Delhi\, Delhi\, India
CATEGORIES:Dandiya Nights
ATTACH;FMTTYPE=image/png:https://sddgm.org/wp-content/uploads/2021/09/sharad-purnima-2016.png
ORGANIZER;CN="Shri Dakshin Delhi Gujarati Mandal":MAILTO:info@sddgm.org
END:VEVENT
BEGIN:VEVENT
DTSTART;TZID=Asia/Kolkata:20151206T183000
DTEND;TZID=Asia/Kolkata:20151206T200000
DTSTAMP:20260420T221529
CREATED:20210918T162317Z
LAST-MODIFIED:20210918T162317Z
UID:10000230-1449426600-1449432000@sddgm.org
SUMMARY:Garba & Dandiya – IISF – 2015
DESCRIPTION:
URL:https://sddgm.org/event/garba-dandiya-iisf-2015/
LOCATION:IIT Delhi\, IIT Delhi\, Nalanda Ground\, New Delhi\, Delhi\, India
CATEGORIES:Dandiya Nights
ATTACH;FMTTYPE=image/jpeg:https://sddgm.org/wp-content/uploads/2021/09/iifs-2015.jpg
ORGANIZER;CN="Shri Dakshin Delhi Gujarati Mandal":MAILTO:info@sddgm.org
END:VEVENT
END:VCALENDAR